BEGIN:VCALENDAR
VERSION:2.0
PRODID:-//Greater Grand Rapids Women&#039;s History Council - ECPv6.15.17.1//NONSGML v1.0//EN
CALSCALE:GREGORIAN
METHOD:PUBLISH
X-WR-CALNAME:Greater Grand Rapids Women&#039;s History Council
X-ORIGINAL-URL:https://www.ggrwhc.org
X-WR-CALDESC:Events for Greater Grand Rapids Women&#039;s History Council
REFRESH-INTERVAL;VALUE=DURATION:PT1H
X-Robots-Tag:noindex
X-PUBLISHED-TTL:PT1H
BEGIN:VTIMEZONE
TZID:America/New_York
BEGIN:DAYLIGHT
TZOFFSETFROM:-0500
TZOFFSETTO:-0400
TZNAME:EDT
DTSTART:20190310T070000
END:DAYLIGHT
BEGIN:STANDARD
TZOFFSETFROM:-0400
TZOFFSETTO:-0500
TZNAME:EST
DTSTART:20191103T060000
END:STANDARD
BEGIN:DAYLIGHT
TZOFFSETFROM:-0500
TZOFFSETTO:-0400
TZNAME:EDT
DTSTART:20200308T070000
END:DAYLIGHT
BEGIN:STANDARD
TZOFFSETFROM:-0400
TZOFFSETTO:-0500
TZNAME:EST
DTSTART:20201101T060000
END:STANDARD
BEGIN:DAYLIGHT
TZOFFSETFROM:-0500
TZOFFSETTO:-0400
TZNAME:EDT
DTSTART:20210314T070000
END:DAYLIGHT
BEGIN:STANDARD
TZOFFSETFROM:-0400
TZOFFSETTO:-0500
TZNAME:EST
DTSTART:20211107T060000
END:STANDARD
END:VTIMEZONE
BEGIN:VEVENT
DTSTART;TZID=America/New_York:20200826T060000
DTEND;TZID=America/New_York:20200826T200000
DTSTAMP:20260423T221959
CREATED:20200824T220317Z
LAST-MODIFIED:20200824T222158Z
UID:569556-1598421600-1598472000@www.ggrwhc.org
SUMMARY:Here Lies a Suffragist: Celebrate the Centennial Socially but Safely!
DESCRIPTION:Here Lies a Suffragist: Celebrate the Centennial Socially but Safely!\n \nOur August 26th grave-decorating project\, Here Lies a Suffragist\, https://www.ggrwhc.org/suffrage-grand-rapids/ will substitute for our original in-person celebration. Please help us honor representative local suffragists on the centennial date of the Nineteenth Amendment\, Wednesday\, August 26th\, 2020! \nHere’s the plan! First\, read through our Here Lies a Suffragist tour guides\, and choose one woman (or more? or all!) to honor on Equality Day\, August 26th. Make a graveside visit on the 26th\, perhaps with flowers—even a single stem. The sites will be easily found—look for the purple balloons and “Votes for Women” badges. \nAs a record of your visit\, please take a photo—of the decorated gravesite certainly; but including you\, too\, if you are willing. Please post it in the comments section of our Facebook post honoring the day! (If you do not use Facebook\, please send it to our email address– info@ggrwhc.org) Don’t worry about grave clean up—we will see to it!
URL:https://www.ggrwhc.org/event/here-lies-a-suffragist-celebrate-the-centennial-socially-but-safely/
LOCATION:MI
CATEGORIES:Events
END:VEVENT
BEGIN:VEVENT
DTSTART;TZID=America/New_York:20200826T190000
DTEND;TZID=America/New_York:20200826T213000
DTSTAMP:20260423T221959
CREATED:20200123T193327Z
LAST-MODIFIED:20200824T221754Z
UID:383533-1598468400-1598477400@www.ggrwhc.org
SUMMARY:GGRWHC Centennial Blow-Out at St. Cecilia! [POSTPONED]
DESCRIPTION:Mark your calendars for the summer centennial of the Nineteenth Amendment! On the stage at St. Cecilia Music Center and at a reception upstairs later we will revel in the color and spectacle of the 72-year-long women’s suffrage movement and catch a glimpse of developments after 1920. Every year we celebrate August 26th as Equality Day. This year help us make it extra special on August 26th!
URL:https://www.ggrwhc.org/event/ggrwhc-centennial-blow-out-at-st-cecilia/
LOCATION:MI
CATEGORIES:Events
END:VEVENT
END:VCALENDAR