BEGIN:VCALENDAR
VERSION:2.0
PRODID:-//Greater Grand Rapids Women&#039;s History Council - ECPv6.15.17.1//NONSGML v1.0//EN
CALSCALE:GREGORIAN
METHOD:PUBLISH
X-ORIGINAL-URL:https://www.ggrwhc.org
X-WR-CALDESC:Events for Greater Grand Rapids Women&#039;s History Council
REFRESH-INTERVAL;VALUE=DURATION:PT1H
X-Robots-Tag:noindex
X-PUBLISHED-TTL:PT1H
BEGIN:VTIMEZONE
TZID:America/Detroit
BEGIN:DAYLIGHT
TZOFFSETFROM:-0500
TZOFFSETTO:-0400
TZNAME:EDT
DTSTART:20230312T070000
END:DAYLIGHT
BEGIN:STANDARD
TZOFFSETFROM:-0400
TZOFFSETTO:-0500
TZNAME:EST
DTSTART:20231105T060000
END:STANDARD
BEGIN:DAYLIGHT
TZOFFSETFROM:-0500
TZOFFSETTO:-0400
TZNAME:EDT
DTSTART:20240310T070000
END:DAYLIGHT
BEGIN:STANDARD
TZOFFSETFROM:-0400
TZOFFSETTO:-0500
TZNAME:EST
DTSTART:20241103T060000
END:STANDARD
BEGIN:DAYLIGHT
TZOFFSETFROM:-0500
TZOFFSETTO:-0400
TZNAME:EDT
DTSTART:20250309T070000
END:DAYLIGHT
BEGIN:STANDARD
TZOFFSETFROM:-0400
TZOFFSETTO:-0500
TZNAME:EST
DTSTART:20251102T060000
END:STANDARD
END:VTIMEZONE
BEGIN:VEVENT
DTSTART;TZID=America/Detroit:20240704T080000
DTEND;TZID=America/Detroit:20240704T100000
DTSTAMP:20260423T073415
CREATED:20240222T133725Z
LAST-MODIFIED:20240222T133749Z
UID:625147-1720080000-1720087200@www.ggrwhc.org
SUMMARY:July 4\, 2024 Hollyhock Lane Parade
DESCRIPTION:Annual Ottawa Hills Hollyhock Lane July 4th Parade \nYou are invited to join the Greater Grand Rapids Women’s History Council as we continue the tradition of marching in the Hollyhock Parade\, the oldest continuous parade in Michigan. \nMeet us at the corner of Calvin and Alexander at 8 a.m. and join the fun with bands\, bicyclists\, candy and placards.
URL:https://www.ggrwhc.org/event/july-4-2024-hollyhock-lane-parade/
LOCATION:MI
CATEGORIES:Events
END:VEVENT
END:VCALENDAR