BEGIN:VCALENDAR
VERSION:2.0
PRODID:-//Greater Grand Rapids Women&#039;s History Council - ECPv6.15.17.1//NONSGML v1.0//EN
CALSCALE:GREGORIAN
METHOD:PUBLISH
X-WR-CALNAME:Greater Grand Rapids Women&#039;s History Council
X-ORIGINAL-URL:https://www.ggrwhc.org
X-WR-CALDESC:Events for Greater Grand Rapids Women&#039;s History Council
REFRESH-INTERVAL;VALUE=DURATION:PT1H
X-Robots-Tag:noindex
X-PUBLISHED-TTL:PT1H
BEGIN:VTIMEZONE
TZID:America/New_York
BEGIN:DAYLIGHT
TZOFFSETFROM:-0500
TZOFFSETTO:-0400
TZNAME:EDT
DTSTART:20170312T070000
END:DAYLIGHT
BEGIN:STANDARD
TZOFFSETFROM:-0400
TZOFFSETTO:-0500
TZNAME:EST
DTSTART:20171105T060000
END:STANDARD
BEGIN:DAYLIGHT
TZOFFSETFROM:-0500
TZOFFSETTO:-0400
TZNAME:EDT
DTSTART:20180311T070000
END:DAYLIGHT
BEGIN:STANDARD
TZOFFSETFROM:-0400
TZOFFSETTO:-0500
TZNAME:EST
DTSTART:20181104T060000
END:STANDARD
BEGIN:DAYLIGHT
TZOFFSETFROM:-0500
TZOFFSETTO:-0400
TZNAME:EDT
DTSTART:20190310T070000
END:DAYLIGHT
BEGIN:STANDARD
TZOFFSETFROM:-0400
TZOFFSETTO:-0500
TZNAME:EST
DTSTART:20191103T060000
END:STANDARD
END:VTIMEZONE
BEGIN:VEVENT
DTSTART;TZID=America/New_York:20180908T133000
DTEND;TZID=America/New_York:20180908T143000
DTSTAMP:20260420T073036
CREATED:20180707T000226Z
LAST-MODIFIED:20180707T000226Z
UID:40854-1536413400-1536417000@www.ggrwhc.org
SUMMARY:Diana Barrett - WWI Women's Cards
DESCRIPTION:During the week of April 27th through May 4th 1918\, twenty thousand Grand Rapids women\, half the city’s female population\, registered for the war effort. One thousand registrars were trained to conduct a twenty-to-thirty-minute interview with each woman. Her information was recorded on a 5 X 8 card\, designed and printed in Washington DC and used nationally. Unlike the male WWI registration cards\, those from the women’s nationwide registration are a data-rich resource. The men’s cards were saved; the women’s cards disappeared. Grand Rapids\, however\, had discovered a collection of 20\,000 cards housed in the Library’s attic. Since that time\, due to excellent research by genealogists and other interested researchers\, many new sources of cards\, and new information has been discovered beyond Grand Rapids and Michigan.
URL:https://www.ggrwhc.org/event/diana-barrett-wwi-womens-cards/
LOCATION:Grand Rapids Public Library\, 111 Library NE\, Grand Rapids\, MI\, United States
CATEGORIES:Events
ATTACH;FMTTYPE=image/jpeg:https://www.ggrwhc.org/wp-content/uploads/2018/07/diana.jpeg
END:VEVENT
BEGIN:VEVENT
DTSTART;TZID=America/New_York:20180913T190000
DTEND;TZID=America/New_York:20180913T200000
DTSTAMP:20260420T073036
CREATED:20180707T001015Z
LAST-MODIFIED:20180707T001015Z
UID:40862-1536865200-1536868800@www.ggrwhc.org
SUMMARY:Lisa McCubbin - Betty Ford: First Lady\, Women's Advocate\, Survivor\, Trailblazer
DESCRIPTION:Hear Lisa McCubbin discuss her new book\, Betty Ford: First Lady\, Women’s Advocate\, Survivor and Trailblazer. It is based on intimate in-depth interviews with family friends and colleagues. McCubbin reveals a fiercely independent woman who had a lively sense of humor\, unwavering faith\, and an indomitable spirit – the true story behind of the most admired and influential women of our time.
URL:https://www.ggrwhc.org/event/lisa-mccubbin-betty-ford-first-lady-womens-advocate-survivor-trailblazer/
LOCATION:Gerald R. Ford Presidential Museum
CATEGORIES:Events
END:VEVENT
END:VCALENDAR