BEGIN:VCALENDAR
VERSION:2.0
PRODID:-//Greater Grand Rapids Women&#039;s History Council - ECPv6.15.17.1//NONSGML v1.0//EN
CALSCALE:GREGORIAN
METHOD:PUBLISH
X-ORIGINAL-URL:https://www.ggrwhc.org
X-WR-CALDESC:Events for Greater Grand Rapids Women&#039;s History Council
REFRESH-INTERVAL;VALUE=DURATION:PT1H
X-Robots-Tag:noindex
X-PUBLISHED-TTL:PT1H
BEGIN:VTIMEZONE
TZID:America/New_York
BEGIN:DAYLIGHT
TZOFFSETFROM:-0500
TZOFFSETTO:-0400
TZNAME:EDT
DTSTART:20180311T070000
END:DAYLIGHT
BEGIN:STANDARD
TZOFFSETFROM:-0400
TZOFFSETTO:-0500
TZNAME:EST
DTSTART:20181104T060000
END:STANDARD
BEGIN:DAYLIGHT
TZOFFSETFROM:-0500
TZOFFSETTO:-0400
TZNAME:EDT
DTSTART:20190310T070000
END:DAYLIGHT
BEGIN:STANDARD
TZOFFSETFROM:-0400
TZOFFSETTO:-0500
TZNAME:EST
DTSTART:20191103T060000
END:STANDARD
BEGIN:DAYLIGHT
TZOFFSETFROM:-0500
TZOFFSETTO:-0400
TZNAME:EDT
DTSTART:20200308T070000
END:DAYLIGHT
BEGIN:STANDARD
TZOFFSETFROM:-0400
TZOFFSETTO:-0500
TZNAME:EST
DTSTART:20201101T060000
END:STANDARD
END:VTIMEZONE
BEGIN:VEVENT
DTSTART;TZID=America/New_York:20190321T130000
DTEND;TZID=America/New_York:20190321T140000
DTSTAMP:20260422T081435
CREATED:20190228T003801Z
LAST-MODIFIED:20190228T003801Z
UID:73997-1553173200-1553176800@www.ggrwhc.org
SUMMARY:Second Line of Defense: Grand Rapids Women and the Great War
DESCRIPTION:You have another chance to catch this program and its tremendous visuals! World War I had a surprising impact on women and they\, in turn\, had tremendous impact on the war — far greater than is generally known. This program will tell the story of American women as citizens during the largest wartime mobilization of our young country and dispel myths that women’s lives were led only in their homes. Upon U.S. entry into the war in 1917\, women’s groups across the nation transformed their organizational structures for war work. Led by the Woman’s Committee of the Council of National Defense\, they made contributions that ranged far beyond the war and their traditional gender roles and addressed the nation’s failure to assess serious food\, health\, and labor problems suddenly compromising national security when a huge percentage of American men failed military physicals. Focusing on West Michigan women a hundred years ago\, the program illustrates how they were among midwestern leaders whose pioneering efforts have been too long neglected. Get ahead of history — credit them by joining us in Lowell!
URL:https://www.ggrwhc.org/event/second-line-of-defense-grand-rapids-women-and-the-great-war/
LOCATION:Lowell Area Historical Museum
CATEGORIES:Events
END:VEVENT
BEGIN:VEVENT
DTSTART;TZID=America/New_York:20190327T170000
DTEND;TZID=America/New_York:20190327T190000
DTSTAMP:20260422T081435
CREATED:20190228T003058Z
LAST-MODIFIED:20190315T104324Z
UID:73993-1553706000-1553713200@www.ggrwhc.org
SUMMARY:GGRWHC Annual Reception!
DESCRIPTION:Then & Now: The 2018 Completion of a 1918 Collection \nJoin us for our signature women’s history month event – the GGRWHC reception and brief annual meeting! Mingle with friends new and old during our cocktail hour\, get an update on our year-in-review\, and stay to learn about and celebrate the work behind the now-digitized Kent County collection of WWI Council of National Defense women’s registration cards. It is truly a one of a kind! Let us know you plan to attend! Click here to RSVP!
URL:https://www.ggrwhc.org/event/ggrwhc-annual-reception/
LOCATION:John F. Donnelly Conference Center at Aquinas College
CATEGORIES:Events
END:VEVENT
END:VCALENDAR