BEGIN:VCALENDAR
VERSION:2.0
PRODID:-//Greater Grand Rapids Women&#039;s History Council - ECPv6.15.17.1//NONSGML v1.0//EN
CALSCALE:GREGORIAN
METHOD:PUBLISH
X-ORIGINAL-URL:https://www.ggrwhc.org
X-WR-CALDESC:Events for Greater Grand Rapids Women&#039;s History Council
REFRESH-INTERVAL;VALUE=DURATION:PT1H
X-Robots-Tag:noindex
X-PUBLISHED-TTL:PT1H
BEGIN:VTIMEZONE
TZID:America/Detroit
BEGIN:DAYLIGHT
TZOFFSETFROM:-0500
TZOFFSETTO:-0400
TZNAME:EDT
DTSTART:20220313T070000
END:DAYLIGHT
BEGIN:STANDARD
TZOFFSETFROM:-0400
TZOFFSETTO:-0500
TZNAME:EST
DTSTART:20221106T060000
END:STANDARD
BEGIN:DAYLIGHT
TZOFFSETFROM:-0500
TZOFFSETTO:-0400
TZNAME:EDT
DTSTART:20230312T070000
END:DAYLIGHT
BEGIN:STANDARD
TZOFFSETFROM:-0400
TZOFFSETTO:-0500
TZNAME:EST
DTSTART:20231105T060000
END:STANDARD
BEGIN:DAYLIGHT
TZOFFSETFROM:-0500
TZOFFSETTO:-0400
TZNAME:EDT
DTSTART:20240310T070000
END:DAYLIGHT
BEGIN:STANDARD
TZOFFSETFROM:-0400
TZOFFSETTO:-0500
TZNAME:EST
DTSTART:20241103T060000
END:STANDARD
END:VTIMEZONE
BEGIN:VEVENT
DTSTART;TZID=America/Detroit:20230315T183000
DTEND;TZID=America/Detroit:20230315T203000
DTSTAMP:20260425T073731
CREATED:20230106T201144Z
LAST-MODIFIED:20230118T002424Z
UID:623380-1678905000-1678912200@www.ggrwhc.org
SUMMARY:The Second Surge: Women Running for Public Office in the 1970s
DESCRIPTION:Speaker: Jo Ellyn Clarey \nSuddenly in the seventies\, Kent County women broke through a barrier that had limited their runs for public office mostly to local school board races. They ran for virtually every position on local\, county\, and state levels\, as well as for U.S. Congress. Now\, in 2023\, celebrate women’s spectacular showings in 2022 – and those of women both before us and to come! \nMarch 15\, 2023 | 6:30-8:30 p.m.\nSt. Cecilia Music Center\n24 Ransom Ave. NE\, Grand Rapids MI 49503\nEvent is free and open to the public | Wine\, beer\, hors d’oeuvres served \nRSVP using link: https://www.eventbrite.com/e/woman-who-ran-for-public-office-in-grand-rapids-tickets-502652385817
URL:https://www.ggrwhc.org/event/the-second-surge-women-running-for-public-office-in-the-1970s/
LOCATION:St. Cecilia Music Center\, 24 Ransom NE\, Grand Rapids\, MI\, 49503\, United States
CATEGORIES:Events
ATTACH;FMTTYPE=image/jpeg:https://www.ggrwhc.org/wp-content/uploads/2023/01/McKee.jpg
END:VEVENT
END:VCALENDAR